BEGIN:VCALENDAR
VERSION:2.0
PRODID:-//wp-events-plugin.com//6.4.7.2//EN
TZID:America/New_York
X-WR-TIMEZONE:America/New_York
BEGIN:VEVENT
UID:5322@titusvillelutherans.org
DTSTART;TZID=America/New_York:20240225T111500
DTEND;TZID=America/New_York:20240225T131500
DTSTAMP:20240222T154126Z
URL:https://titusvillelutherans.org/events/2024-gslc-chili-cook-off/
SUMMARY:POSTPONED: Chili Cook-off
DESCRIPTION:New date to be announced
CATEGORIES:Fellowship,Fund-raiser
LOCATION:Shepherd's Hall\, 2073 Garden Street\, Titusville\, Florida\, 3279
 6\, United States
X-APPLE-STRUCTURED-LOCATION;VALUE=URI;X-ADDRESS=2073 Garden Street\, Titusv
 ille\, Florida\, 32796\, United States;X-APPLE-RADIUS=100;X-TITLE=Shepherd
 's Hall:geo:0,0
END:VEVENT
BEGIN:VTIMEZONE
TZID:America/New_York
X-LIC-LOCATION:America/New_York
BEGIN:STANDARD
DTSTART:20231105T010000
TZOFFSETFROM:-0400
TZOFFSETTO:-0500
TZNAME:EST
END:STANDARD
END:VTIMEZONE
END:VCALENDAR