BEGIN:VCALENDAR
VERSION:2.0
PRODID:-//wp-events-plugin.com//6.4.7.2//EN
TZID:America/New_York
X-WR-TIMEZONE:America/New_York
BEGIN:VEVENT
UID:5897@titusvillelutherans.org
DTSTART;TZID=America/New_York:20240727T090000
DTEND;TZID=America/New_York:20240727T121500
DTSTAMP:20240721T180210Z
URL:https://titusvillelutherans.org/events/classroom-cleaning-shpeherds-ha
 ll/
SUMMARY:Classroom cleaning Shepherd's Hall
DESCRIPTION:Clean Pastor's classroom and the new Sunday School room.  Plea
 se bring cleaning supplies.
CATEGORIES:LWML,Shepherd's Daughters,Volunteer
LOCATION:Shepherd's Hall Classroom\, 2073 Garden Street\, Titusville\, FL|\
 , 32796\, United States
X-APPLE-STRUCTURED-LOCATION;VALUE=URI;X-ADDRESS=2073 Garden Street\, Titusv
 ille\, FL|\, 32796\, United States;X-APPLE-RADIUS=100;X-TITLE=Shepherd's H
 all Classroom:geo:0,0
END:VEVENT
BEGIN:VTIMEZONE
TZID:America/New_York
X-LIC-LOCATION:America/New_York
BEGIN:DAYLIGHT
DTSTART:20240310T030000
TZOFFSETFROM:-0500
TZOFFSETTO:-0400
TZNAME:EDT
END:DAYLIGHT
END:VTIMEZONE
END:VCALENDAR