BEGIN:VCALENDAR
VERSION:2.0
PRODID:-//wp-events-plugin.com//6.4.7.2//EN
TZID:America/New_York
X-WR-TIMEZONE:America/New_York
BEGIN:VEVENT
UID:5321@titusvillelutherans.org
DTSTART;TZID=America/New_York:20240209T130000
DTEND;TZID=America/New_York:20240209T143000
DTSTAMP:20240129T165220Z
URL:https://titusvillelutherans.org/events/crafters-bible-study-inaugural-
 meeting/
SUMMARY:Crafters Bible Study Inaugural Meeting
DESCRIPTION:For those who make things and want to Study God's word - open t
 o all.  At this meeting\, we'll discuss format and meeting times and freq
 uency
LOCATION:Church Meeting Room\, 2073 Garden Street\, Titusville\, Florida\, 
 32796\, United States
X-APPLE-STRUCTURED-LOCATION;VALUE=URI;X-ADDRESS=2073 Garden Street\, Titusv
 ille\, Florida\, 32796\, United States;X-APPLE-RADIUS=100;X-TITLE=Church M
 eeting Room:geo:0,0
END:VEVENT
BEGIN:VTIMEZONE
TZID:America/New_York
X-LIC-LOCATION:America/New_York
BEGIN:STANDARD
DTSTART:20231105T010000
TZOFFSETFROM:-0400
TZOFFSETTO:-0500
TZNAME:EST
END:STANDARD
END:VTIMEZONE
END:VCALENDAR