BEGIN:VCALENDAR
VERSION:2.0
PRODID:-//wp-events-plugin.com//6.4.7.2//EN
TZID:America/New_York
X-WR-TIMEZONE:America/New_York
BEGIN:VEVENT
UID:5422@titusvillelutherans.org
DTSTART;TZID=America/New_York;VALUE=DATE:20240329
DTEND;TZID=America/New_York;VALUE=DATE:20240330
DTSTAMP:20240213T214312Z
URL:https://titusvillelutherans.org/events/good-friday-2/
SUMMARY:Good Friday
DESCRIPTION:
END:VEVENT
BEGIN:VTIMEZONE
TZID:America/New_York
X-LIC-LOCATION:America/New_York
BEGIN:DAYLIGHT
DTSTART:20240310T030000
TZOFFSETFROM:-0500
TZOFFSETTO:-0400
TZNAME:EDT
END:DAYLIGHT
END:VTIMEZONE
END:VCALENDAR