BEGIN:VCALENDAR
VERSION:2.0
PRODID:-//wp-events-plugin.com//6.4.7.2//EN
TZID:America/New_York
X-WR-TIMEZONE:America/New_York
BEGIN:VEVENT
UID:5745@titusvillelutherans.org
DTSTART;TZID=America/New_York:20240518T080000
DTEND;TZID=America/New_York:20240518T140000
DTSTAMP:20240513T195925Z
URL:https://titusvillelutherans.org/events/hibiscus-show-american-hibiscus
 -society-center-florida-chapter/
SUMMARY:Hibiscus Show: American Hibiscus Society- Center Florida Chapter
DESCRIPTION:We will be having our chapter's last show and sale of the year 
 at Good Shepherd Lutheran Church.There will be beautiful blooms to show of
 f. There will be plants\, fertilizer\, and handbooks for sale. We will hav
 e the plant sale ready around 8am. To get a good variety of the plants for
  sale\, you should arrive as early as possible. The head table for the sho
 w should be set by 12:00pm\, but no later than 1pm.
CATEGORIES:Outside group
LOCATION:Shepherd's Hall\, 2073 Garden Street\, Titusville\, Florida\, 3279
 6\, United States
X-APPLE-STRUCTURED-LOCATION;VALUE=URI;X-ADDRESS=2073 Garden Street\, Titusv
 ille\, Florida\, 32796\, United States;X-APPLE-RADIUS=100;X-TITLE=Shepherd
 's Hall:geo:0,0
END:VEVENT
BEGIN:VTIMEZONE
TZID:America/New_York
X-LIC-LOCATION:America/New_York
BEGIN:DAYLIGHT
DTSTART:20240310T030000
TZOFFSETFROM:-0500
TZOFFSETTO:-0400
TZNAME:EDT
END:DAYLIGHT
END:VTIMEZONE
END:VCALENDAR