BEGIN:VCALENDAR
VERSION:2.0
PRODID:-//wp-events-plugin.com//6.4.7.2//EN
TZID:America/New_York
X-WR-TIMEZONE:America/New_York
BEGIN:VEVENT
UID:3112@titusvillelutherans.org
DTSTART;TZID=America/New_York:20221203T183000
DTEND;TZID=America/New_York:20221203T203000
DTSTAMP:20221128T002617Z
URL:https://titusvillelutherans.org/events/home-for-the-holidays-concert/
SUMMARY:Home for the Holidays Concert
DESCRIPTION:Concert Flyer\n\nFree Christmas Concert by Heidi Schumacher wit
 h Jelena Alonso\, Jelena Schumacher\, and Julie Schumacher. Enjoy Christma
 s favorites and fellowship.
CATEGORIES:Fellowship,Outreach
LOCATION:Shepherd's Hall\, 2073 Garden Street\, Titusville\, Florida\, 3279
 6\, United States
X-APPLE-STRUCTURED-LOCATION;VALUE=URI;X-ADDRESS=2073 Garden Street\, Titusv
 ille\, Florida\, 32796\, United States;X-APPLE-RADIUS=100;X-TITLE=Shepherd
 's Hall:geo:0,0
END:VEVENT
BEGIN:VTIMEZONE
TZID:America/New_York
X-LIC-LOCATION:America/New_York
BEGIN:STANDARD
DTSTART:20221106T010000
TZOFFSETFROM:-0400
TZOFFSETTO:-0500
TZNAME:EST
END:STANDARD
END:VTIMEZONE
END:VCALENDAR