BEGIN:VCALENDAR
VERSION:2.0
PRODID:-//wp-events-plugin.com//6.4.7.2//EN
TZID:America/New_York
X-WR-TIMEZONE:America/New_York
BEGIN:VEVENT
UID:5844@titusvillelutherans.org
DTSTART;TZID=America/New_York:20240627T113000
DTEND;TZID=America/New_York:20240627T130000
DTSTAMP:20240712T222003Z
URL:https://titusvillelutherans.org/events/lunch-bunch-on-hiatus-2024-06-2
 7/
SUMMARY:Lunch Bunch on Hiatus
DESCRIPTION:
END:VEVENT
BEGIN:VTIMEZONE
TZID:America/New_York
X-LIC-LOCATION:America/New_York
BEGIN:DAYLIGHT
DTSTART:20240310T030000
TZOFFSETFROM:-0500
TZOFFSETTO:-0400
TZNAME:EDT
END:DAYLIGHT
END:VTIMEZONE
END:VCALENDAR