BEGIN:VCALENDAR
VERSION:2.0
PRODID:-//wp-events-plugin.com//6.4.7.2//EN
TZID:America/New_York
X-WR-TIMEZONE:America/New_York
BEGIN:VEVENT
UID:5358@titusvillelutherans.org
DTSTART;TZID=America/New_York:20240229T113000
DTEND;TZID=America/New_York:20240229T130000
DTSTAMP:20240206T172314Z
URL:https://titusvillelutherans.org/events/lunch-bunch-orleans-bistro-bar/
SUMMARY:Lunch Bunch: Orleans Bistro & Bar
DESCRIPTION:Orleans Bistro and Bar  2204 S WASHINGTON AVE\, TITUSVILLE\, 
 FL 32780
CATEGORIES:Fellowship
END:VEVENT
BEGIN:VTIMEZONE
TZID:America/New_York
X-LIC-LOCATION:America/New_York
BEGIN:STANDARD
DTSTART:20231105T010000
TZOFFSETFROM:-0400
TZOFFSETTO:-0500
TZNAME:EST
END:STANDARD
END:VTIMEZONE
END:VCALENDAR