BEGIN:VCALENDAR
VERSION:2.0
PRODID:-//wp-events-plugin.com//6.4.7.2//EN
TZID:America/New_York
X-WR-TIMEZONE:America/New_York
BEGIN:VEVENT
UID:4736@titusvillelutherans.org
DTSTART;TZID=America/New_York:20231231T093000
DTEND;TZID=America/New_York:20231231T104500
DTSTAMP:20231220T033027Z
URL:https://titusvillelutherans.org/events/lwml-mites-sunday-2-2023-12-31/
SUMMARY:LWML Mites Sunday
DESCRIPTION:Mites for LWML will be collected during the offering.\n\nMites 
 are loose change used for mission work in the Florida/Georgia District of 
 the LCMS\, nation- and worldwide\,
LOCATION:Sanctuary\, 2073 Garden Street\, Titusville\, Florida\, 32796\, Un
 ited States
X-APPLE-STRUCTURED-LOCATION;VALUE=URI;X-ADDRESS=2073 Garden Street\, Titusv
 ille\, Florida\, 32796\, United States;X-APPLE-RADIUS=100;X-TITLE=Sanctuar
 y:geo:0,0
END:VEVENT
BEGIN:VTIMEZONE
TZID:America/New_York
X-LIC-LOCATION:America/New_York
BEGIN:STANDARD
DTSTART:20231105T010000
TZOFFSETFROM:-0400
TZOFFSETTO:-0500
TZNAME:EST
END:STANDARD
END:VTIMEZONE
END:VCALENDAR