BEGIN:VCALENDAR
VERSION:2.0
PRODID:-//wp-events-plugin.com//6.4.7.2//EN
TZID:America/New_York
X-WR-TIMEZONE:America/New_York
BEGIN:VEVENT
UID:5733@titusvillelutherans.org
DTSTART;TZID=America/New_York:20240525T180000
DTEND;TZID=America/New_York:20240525T200000
DTSTAMP:20240506T181452Z
URL:https://titusvillelutherans.org/events/mike-corey-christian-music/
SUMMARY:Mike Corey Christian Music
DESCRIPTION:Contemporary Christian music and prayer in Shepherd's Hall.
CATEGORIES:Fellowship,Performance,Shepherd's Hall
LOCATION:Shepherd's Hall\, 2073 Garden Street\, Titusville\, Florida\, 3279
 6\, United States
X-APPLE-STRUCTURED-LOCATION;VALUE=URI;X-ADDRESS=2073 Garden Street\, Titusv
 ille\, Florida\, 32796\, United States;X-APPLE-RADIUS=100;X-TITLE=Shepherd
 's Hall:geo:0,0
END:VEVENT
BEGIN:VTIMEZONE
TZID:America/New_York
X-LIC-LOCATION:America/New_York
BEGIN:DAYLIGHT
DTSTART:20240310T030000
TZOFFSETFROM:-0500
TZOFFSETTO:-0400
TZNAME:EDT
END:DAYLIGHT
END:VTIMEZONE
END:VCALENDAR