BEGIN:VCALENDAR
VERSION:2.0
PRODID:-//wp-events-plugin.com//6.4.7.2//EN
TZID:America/New_York
X-WR-TIMEZONE:America/New_York
BEGIN:VEVENT
UID:5624@titusvillelutherans.org
DTSTART;TZID=America/New_York:20240323T090000
DTEND;TZID=America/New_York:20240323T110000
DTSTAMP:20240318T205509Z
URL:https://titusvillelutherans.org/events/parking-lot-sweep/
SUMMARY:Parking Lot Sweep
DESCRIPTION:Please help sweep (or blow) the oak flowers\, leaves\, and poll
 en from the parking lot on Saturday\, March 23\, 9 a.m.  Bring your leaf 
 blowers and make Good Shepherd beautiful for Holy Week.
CATEGORIES:Volunteer
END:VEVENT
BEGIN:VTIMEZONE
TZID:America/New_York
X-LIC-LOCATION:America/New_York
BEGIN:DAYLIGHT
DTSTART:20240310T030000
TZOFFSETFROM:-0500
TZOFFSETTO:-0400
TZNAME:EDT
END:DAYLIGHT
END:VTIMEZONE
END:VCALENDAR