BEGIN:VCALENDAR
VERSION:2.0
PRODID:-//wp-events-plugin.com//6.4.7.2//EN
TZID:America/New_York
X-WR-TIMEZONE:America/New_York
BEGIN:VEVENT
UID:5743@titusvillelutherans.org
DTSTART;TZID=America/New_York:20240526T093000
DTEND;TZID=America/New_York:20240526T110000
DTSTAMP:20240513T195501Z
URL:https://titusvillelutherans.org/events/pentecost-and-confirmation/
SUMMARY:Pentecost and Confirmation
DESCRIPTION:Yes\, there will be sheetcake afterward in Shepherd's Hall
CATEGORIES:Confirmation,Fellowship,Youth
END:VEVENT
BEGIN:VTIMEZONE
TZID:America/New_York
X-LIC-LOCATION:America/New_York
BEGIN:DAYLIGHT
DTSTART:20240310T030000
TZOFFSETFROM:-0500
TZOFFSETTO:-0400
TZNAME:EDT
END:DAYLIGHT
END:VTIMEZONE
END:VCALENDAR