BEGIN:VCALENDAR
VERSION:2.0
PRODID:-//wp-events-plugin.com//6.4.7.2//EN
TZID:America/New_York
X-WR-TIMEZONE:America/New_York
BEGIN:VEVENT
UID:5125@titusvillelutherans.org
DTSTART;TZID=America/New_York:20240128T093000
DTEND;TZID=America/New_York:20240128T103000
DTSTAMP:20240122T182029Z
URL:https://titusvillelutherans.org/events/reception-of-new-members-and-pr
 eschool-sunday-sing/
SUMMARY:Reception Of New Members and Preschool Sunday Sing
DESCRIPTION:
LOCATION:Sanctuary\, 2073 Garden Street\, Titusville\, Florida\, 32796\, Un
 ited States
X-APPLE-STRUCTURED-LOCATION;VALUE=URI;X-ADDRESS=2073 Garden Street\, Titusv
 ille\, Florida\, 32796\, United States;X-APPLE-RADIUS=100;X-TITLE=Sanctuar
 y:geo:0,0
END:VEVENT
BEGIN:VTIMEZONE
TZID:America/New_York
X-LIC-LOCATION:America/New_York
BEGIN:STANDARD
DTSTART:20231105T010000
TZOFFSETFROM:-0400
TZOFFSETTO:-0500
TZNAME:EST
END:STANDARD
END:VTIMEZONE
END:VCALENDAR