BEGIN:VCALENDAR
VERSION:2.0
PRODID:-//wp-events-plugin.com//6.4.7.2//EN
TZID:America/New_York
X-WR-TIMEZONE:America/New_York
BEGIN:VEVENT
UID:4637@titusvillelutherans.org
DTSTART;TZID=America/New_York:20231209T180000
DTEND;TZID=America/New_York:20231209T203000
DTSTAMP:20231205T205907Z
URL:https://titusvillelutherans.org/events/titusville-christmas-parade-2/
SUMMARY:Titusville Christmas Parade
DESCRIPTION:Call Rickey Hall or the church office to volunteer for parade o
 r float decorating.  Parade volunteers must be at Titusville High School 
 by 5 p.m.  See christmasparadeirc.com for more information.
END:VEVENT
BEGIN:VTIMEZONE
TZID:America/New_York
X-LIC-LOCATION:America/New_York
BEGIN:STANDARD
DTSTART:20231105T010000
TZOFFSETFROM:-0400
TZOFFSETTO:-0500
TZNAME:EST
END:STANDARD
END:VTIMEZONE
END:VCALENDAR